BEGIN:VCALENDAR
VERSION:2.0
PRODID:icalendar-ruby
CALSCALE:GREGORIAN
METHOD:PUBLISH
BEGIN:VEVENT
DTSTAMP:20260426T001513Z
UID:6-2217311@4041.tithelysetup2.com
DTSTART:20260426T163000Z
DTEND:20260426T173000Z
CLASS:PUBLIC
CREATED:20260425T063831
DESCRIPTION:
LAST-MODIFIED:20260425T063831
LOCATION:
SUMMARY:Worship Service
URL;VALUE=URI:https://4041.tithelysetup2.com/events/worship-service--6/2026
 -04-26
END:VEVENT
END:VCALENDAR
