BEGIN:VCALENDAR
VERSION:2.0
PRODID:icalendar-ruby
CALSCALE:GREGORIAN
METHOD:PUBLISH
BEGIN:VEVENT
DTSTAMP:20260426T001958Z
UID:5-2217283@4041.tithelysetup2.com
DTSTART:20260426T180000Z
DTEND:20260426T190000Z
CLASS:PUBLIC
CREATED:20260425T061843
DESCRIPTION:Sunday Worship
LAST-MODIFIED:20260425T061843
LOCATION:
SUMMARY:Sunday Worship
URL;VALUE=URI:https://4041.tithelysetup2.com/events/sunday-worship/2026-04-
 26
END:VEVENT
END:VCALENDAR
